BEGIN:VCALENDAR
VERSION:2.0
PRODID:-//Smyrna Spartans - ECPv6.15.17.1//NONSGML v1.0//EN
CALSCALE:GREGORIAN
METHOD:PUBLISH
X-WR-CALNAME:Smyrna Spartans
X-ORIGINAL-URL:https://smyrnaseahawks.org
X-WR-CALDESC:Events for Smyrna Spartans
REFRESH-INTERVAL;VALUE=DURATION:PT1H
X-Robots-Tag:noindex
X-PUBLISHED-TTL:PT1H
BEGIN:VTIMEZONE
TZID:America/New_York
BEGIN:DAYLIGHT
TZOFFSETFROM:-0500
TZOFFSETTO:-0400
TZNAME:EDT
DTSTART:20180311T070000
END:DAYLIGHT
BEGIN:STANDARD
TZOFFSETFROM:-0400
TZOFFSETTO:-0500
TZNAME:EST
DTSTART:20181104T060000
END:STANDARD
BEGIN:DAYLIGHT
TZOFFSETFROM:-0500
TZOFFSETTO:-0400
TZNAME:EDT
DTSTART:20190310T070000
END:DAYLIGHT
BEGIN:STANDARD
TZOFFSETFROM:-0400
TZOFFSETTO:-0500
TZNAME:EST
DTSTART:20191103T060000
END:STANDARD
BEGIN:DAYLIGHT
TZOFFSETFROM:-0500
TZOFFSETTO:-0400
TZNAME:EDT
DTSTART:20200308T070000
END:DAYLIGHT
BEGIN:STANDARD
TZOFFSETFROM:-0400
TZOFFSETTO:-0500
TZNAME:EST
DTSTART:20201101T060000
END:STANDARD
END:VTIMEZONE
BEGIN:VEVENT
DTSTART;TZID=America/New_York:20190702T183000
DTEND;TZID=America/New_York:20190702T203000
DTSTAMP:20260423T162644
CREATED:20190702T001248Z
LAST-MODIFIED:20190702T040128Z
UID:4862-1562092200-1562099400@smyrnaseahawks.org
SUMMARY:Mandatory Conditioning
DESCRIPTION:
URL:https://smyrnaseahawks.org/event/mandatory-conditioning/
LOCATION:Chuck Camp Park\, 2270 Benson Poole Rd SE\, smyrna\, GA\, 30080\, United States
ATTACH;FMTTYPE=image/jpeg:https://smyrnaseahawks.org/wp-content/uploads/2019/02/ss-post-placeholder-rectangular.jpg
END:VEVENT
BEGIN:VEVENT
DTSTART;TZID=America/New_York:20190613T183000
DTEND;TZID=America/New_York:20190613T203000
DTSTAMP:20260423T162644
CREATED:20190206T183641Z
LAST-MODIFIED:20190531T160312Z
UID:4180-1560450600-1560457800@smyrnaseahawks.org
SUMMARY:Speed & Agility Camp
DESCRIPTION:Seahawks preseason conditioning
URL:https://smyrnaseahawks.org/event/speed-agility-camp-06-13-19/
LOCATION:Chuck Camp Park\, 2270 Benson Poole Rd SE\, smyrna\, GA\, 30080\, United States
ATTACH;FMTTYPE=image/jpeg:https://smyrnaseahawks.org/wp-content/uploads/2019/02/ss-conditioning-banner-live.jpg
END:VEVENT
BEGIN:VEVENT
DTSTART;TZID=America/New_York:20190611T183000
DTEND;TZID=America/New_York:20190611T203000
DTSTAMP:20260423T162644
CREATED:20190206T183313Z
LAST-MODIFIED:20190531T160014Z
UID:4179-1560277800-1560285000@smyrnaseahawks.org
SUMMARY:Speed & Agility Camp
DESCRIPTION:Seahawks preseason conditioning
URL:https://smyrnaseahawks.org/event/speed-agility-camp-06-11-19/
LOCATION:Chuck Camp Park\, 2270 Benson Poole Rd SE\, smyrna\, GA\, 30080\, United States
ATTACH;FMTTYPE=image/jpeg:https://smyrnaseahawks.org/wp-content/uploads/2019/02/ss-conditioning-banner-live.jpg
END:VEVENT
BEGIN:VEVENT
DTSTART;TZID=America/New_York:20190610T183000
DTEND;TZID=America/New_York:20190610T203000
DTSTAMP:20260423T162644
CREATED:20190206T182454Z
LAST-MODIFIED:20190531T155413Z
UID:4177-1560191400-1560198600@smyrnaseahawks.org
SUMMARY:Speed & Agility Camp
DESCRIPTION:Seahawks preseason conditioning
URL:https://smyrnaseahawks.org/event/speed-agility-camp-06-10-19-2/
LOCATION:Chuck Camp Park\, 2270 Benson Poole Rd SE\, smyrna\, GA\, 30080\, United States
ATTACH;FMTTYPE=image/jpeg:https://smyrnaseahawks.org/wp-content/uploads/2019/02/ss-conditioning-banner.jpg
END:VEVENT
BEGIN:VEVENT
DTSTART;VALUE=DATE:20190610
DTEND;VALUE=DATE:20190611
DTSTAMP:20260423T162644
CREATED:20190610T200916Z
LAST-MODIFIED:20190610T200916Z
UID:4840-1560124800-1560211199@smyrnaseahawks.org
SUMMARY:***CONDITIONING WILL BE CANCELLED TODAY MONDAY JUNE 10TH DUE TO FIELD CLOSING***
DESCRIPTION:Seahawks Family\, \nConditioning will be cancelled today Monday June 10th due to fields being closed by the City Of Smyrna. We will resume normal condition tomorrow June 11th if the weather permits. Always look to the website for news and updates. \nThanks\, \nPresident Keshay Cowvins \n2019 Board Of Directors
URL:https://smyrnaseahawks.org/event/conditioning-will-be-cancelled-today-monday-june-10th-due-to-field-closing/
END:VEVENT
BEGIN:VEVENT
DTSTART;VALUE=DATE:20190428
DTEND;VALUE=DATE:20190429
DTSTAMP:20260423T162644
CREATED:20190206T180936Z
LAST-MODIFIED:20190429T145336Z
UID:4174-1556409600-1556495999@smyrnaseahawks.org
SUMMARY:In-Person Registration at Smyrna Jonquil Festival
DESCRIPTION:
URL:https://smyrnaseahawks.org/event/in-person-registration-at-smyrna-jonquil-festival-2/
LOCATION:The Village Green\, 200 Village Green Cir\, Smyrna\, GA\, 30080\, United States
ATTACH;FMTTYPE=image/jpeg:https://smyrnaseahawks.org/wp-content/uploads/2019/01/ss-post-placeholder-rectangular-slim.jpg
END:VEVENT
BEGIN:VEVENT
DTSTART;VALUE=DATE:20190427
DTEND;VALUE=DATE:20190428
DTSTAMP:20260423T162644
CREATED:20190206T180449Z
LAST-MODIFIED:20190429T145047Z
UID:4173-1556323200-1556409599@smyrnaseahawks.org
SUMMARY:In-Person Registration at Smyrna Jonquil Festival
DESCRIPTION:
URL:https://smyrnaseahawks.org/event/in-person-registration-at-smyrna-jonquil-festival/
LOCATION:The Village Green\, 200 Village Green Cir\, Smyrna\, GA\, 30080\, United States
ATTACH;FMTTYPE=image/jpeg:https://smyrnaseahawks.org/wp-content/uploads/2019/01/ss-post-placeholder-rectangular-slim.jpg
END:VEVENT
BEGIN:VEVENT
DTSTART;VALUE=DATE:20190228
DTEND;VALUE=DATE:20190301
DTSTAMP:20260423T162644
CREATED:20190206T174129Z
LAST-MODIFIED:20190214T165240Z
UID:4172-1551312000-1551398399@smyrnaseahawks.org
SUMMARY:Early Registration Discount Ends Today
DESCRIPTION:2019 FOOTBALL AND CHEER REGISTRATIONS ARE NOW OPEN! Registration fees must be PAID IN FULL by MARCH 31st to secure your child’s jersey number from last year. Click the link below to review what is covered by registration. \n    	\n        what registration covers
URL:https://smyrnaseahawks.org/event/early-registration-discount-ends-today/
ATTACH;FMTTYPE=image/jpeg:https://smyrnaseahawks.org/wp-content/uploads/2019/01/ss-post-placeholder-rectangular-slim.jpg
END:VEVENT
END:VCALENDAR