BEGIN:VCALENDAR
VERSION:2.0
PRODID:-//Smyrna Spartans - ECPv6.15.17.1//NONSGML v1.0//EN
CALSCALE:GREGORIAN
METHOD:PUBLISH
X-ORIGINAL-URL:https://smyrnaseahawks.org
X-WR-CALDESC:Events for Smyrna Spartans
REFRESH-INTERVAL;VALUE=DURATION:PT1H
X-Robots-Tag:noindex
X-PUBLISHED-TTL:PT1H
BEGIN:VTIMEZONE
TZID:America/New_York
BEGIN:DAYLIGHT
TZOFFSETFROM:-0500
TZOFFSETTO:-0400
TZNAME:EDT
DTSTART:20240310T070000
END:DAYLIGHT
BEGIN:STANDARD
TZOFFSETFROM:-0400
TZOFFSETTO:-0500
TZNAME:EST
DTSTART:20241103T060000
END:STANDARD
BEGIN:DAYLIGHT
TZOFFSETFROM:-0500
TZOFFSETTO:-0400
TZNAME:EDT
DTSTART:20250309T070000
END:DAYLIGHT
BEGIN:STANDARD
TZOFFSETFROM:-0400
TZOFFSETTO:-0500
TZNAME:EST
DTSTART:20251102T060000
END:STANDARD
BEGIN:DAYLIGHT
TZOFFSETFROM:-0500
TZOFFSETTO:-0400
TZNAME:EDT
DTSTART:20260308T070000
END:DAYLIGHT
BEGIN:STANDARD
TZOFFSETFROM:-0400
TZOFFSETTO:-0500
TZNAME:EST
DTSTART:20261101T060000
END:STANDARD
END:VTIMEZONE
BEGIN:VEVENT
DTSTART;TZID=America/New_York:20250618T183000
DTEND;TZID=America/New_York:20250618T200000
DTSTAMP:20260423T150538
CREATED:20250514T152440Z
LAST-MODIFIED:20250514T152841Z
UID:7847-1750271400-1750276800@smyrnaseahawks.org
SUMMARY:Football Preseason Conditioning
DESCRIPTION:
URL:https://smyrnaseahawks.org/event/football-preseason-conditioning-25-06-18/
LOCATION:Chuck Camp Park\, 2270 Benson Poole Rd SE\, smyrna\, GA\, 30080\, United States
ATTACH;FMTTYPE=image/jpeg:https://smyrnaseahawks.org/wp-content/uploads/2019/01/ss-post-placeholder-rectangular-slim.jpg
END:VEVENT
BEGIN:VEVENT
DTSTART;TZID=America/New_York:20250624T183000
DTEND;TZID=America/New_York:20250624T200000
DTSTAMP:20260423T150538
CREATED:20250514T152433Z
LAST-MODIFIED:20250514T152857Z
UID:7848-1750789800-1750795200@smyrnaseahawks.org
SUMMARY:Football Preseason Conditioning
DESCRIPTION:
URL:https://smyrnaseahawks.org/event/football-preseason-conditioning-25-06-24/
LOCATION:Chuck Camp Park\, 2270 Benson Poole Rd SE\, smyrna\, GA\, 30080\, United States
ATTACH;FMTTYPE=image/jpeg:https://smyrnaseahawks.org/wp-content/uploads/2019/01/ss-post-placeholder-rectangular-slim.jpg
END:VEVENT
BEGIN:VEVENT
DTSTART;TZID=America/New_York:20250626T183000
DTEND;TZID=America/New_York:20250626T200000
DTSTAMP:20260423T150538
CREATED:20250514T152425Z
LAST-MODIFIED:20250514T152908Z
UID:7849-1750962600-1750968000@smyrnaseahawks.org
SUMMARY:Football Preseason Conditioning
DESCRIPTION:
URL:https://smyrnaseahawks.org/event/football-preseason-conditioning-25-06-26/
LOCATION:Chuck Camp Park\, 2270 Benson Poole Rd SE\, smyrna\, GA\, 30080\, United States
ATTACH;FMTTYPE=image/jpeg:https://smyrnaseahawks.org/wp-content/uploads/2019/01/ss-post-placeholder-rectangular-slim.jpg
END:VEVENT
BEGIN:VEVENT
DTSTART;VALUE=DATE:20250630
DTEND;VALUE=DATE:20250705
DTSTAMP:20260423T150538
CREATED:20250514T153121Z
LAST-MODIFIED:20250514T153121Z
UID:7854-1751241600-1751673599@smyrnaseahawks.org
SUMMARY:No Practice Week
DESCRIPTION:
URL:https://smyrnaseahawks.org/event/no-practice-week-25-06-30/
ATTACH;FMTTYPE=image/jpeg:https://smyrnaseahawks.org/wp-content/uploads/2019/01/ss-post-placeholder-rectangular-slim.jpg
END:VEVENT
BEGIN:VEVENT
DTSTART;TZID=America/New_York:20250707T183000
DTEND;TZID=America/New_York:20250707T203000
DTSTAMP:20260423T150538
CREATED:20250514T153641Z
LAST-MODIFIED:20250514T153944Z
UID:7856-1751913000-1751920200@smyrnaseahawks.org
SUMMARY:Football Regular Practice Schedule Begins
DESCRIPTION:Every Monday\, Tuesday\, Thursday
URL:https://smyrnaseahawks.org/event/football-regular-practice-schedule-begins-2025-07-07/
LOCATION:Chuck Camp Park\, 2270 Benson Poole Rd SE\, smyrna\, GA\, 30080\, United States
ATTACH;FMTTYPE=image/jpeg:https://smyrnaseahawks.org/wp-content/uploads/2019/01/ss-post-placeholder-rectangular-slim.jpg
END:VEVENT
BEGIN:VEVENT
DTSTART;TZID=America/New_York:20250708T183000
DTEND;TZID=America/New_York:20250708T203000
DTSTAMP:20260423T150538
CREATED:20250514T154221Z
LAST-MODIFIED:20250514T154221Z
UID:7860-1751999400-1752006600@smyrnaseahawks.org
SUMMARY:Football Regular Practice Schedule Begins
DESCRIPTION:Every Monday\, Tuesday\, Thursday
URL:https://smyrnaseahawks.org/event/football-regular-practice-schedule-begins-2025-07-08/
LOCATION:Chuck Camp Park\, 2270 Benson Poole Rd SE\, smyrna\, GA\, 30080\, United States
ATTACH;FMTTYPE=image/jpeg:https://smyrnaseahawks.org/wp-content/uploads/2019/01/ss-post-placeholder-rectangular-slim.jpg
END:VEVENT
BEGIN:VEVENT
DTSTART;TZID=America/New_York:20250710T183000
DTEND;TZID=America/New_York:20250710T203000
DTSTAMP:20260423T150538
CREATED:20250514T154401Z
LAST-MODIFIED:20250514T154401Z
UID:7862-1752172200-1752179400@smyrnaseahawks.org
SUMMARY:Football Regular Practice Schedule Begins
DESCRIPTION:Every Monday\, Tuesday\, Thursday
URL:https://smyrnaseahawks.org/event/football-regular-practice-schedule-begins-2025-07-10/
LOCATION:Chuck Camp Park\, 2270 Benson Poole Rd SE\, smyrna\, GA\, 30080\, United States
ATTACH;FMTTYPE=image/jpeg:https://smyrnaseahawks.org/wp-content/uploads/2019/01/ss-post-placeholder-rectangular-slim.jpg
END:VEVENT
BEGIN:VEVENT
DTSTART;TZID=America/New_York:20250714T183000
DTEND;TZID=America/New_York:20250714T200000
DTSTAMP:20260423T150538
CREATED:20250514T154715Z
LAST-MODIFIED:20250514T154815Z
UID:7864-1752517800-1752523200@smyrnaseahawks.org
SUMMARY:Cheer Regular Practice Schedule Begins
DESCRIPTION:Every Monday\, Tuesday\, Thursday
URL:https://smyrnaseahawks.org/event/cheer-regular-practice-schedule-begins-2025-07-14/
LOCATION:Chuck Camp Park\, 2270 Benson Poole Rd SE\, smyrna\, GA\, 30080\, United States
ATTACH;FMTTYPE=image/jpeg:https://smyrnaseahawks.org/wp-content/uploads/2019/01/ss-post-placeholder-rectangular-slim.jpg
END:VEVENT
BEGIN:VEVENT
DTSTART;TZID=America/New_York:20250715T063000
DTEND;TZID=America/New_York:20250715T200000
DTSTAMP:20260423T150538
CREATED:20250514T155002Z
LAST-MODIFIED:20250514T155002Z
UID:7866-1752561000-1752609600@smyrnaseahawks.org
SUMMARY:Cheer Regular Practice Schedule Begins
DESCRIPTION:Every Monday\, Tuesday\, Thursday
URL:https://smyrnaseahawks.org/event/cheer-regular-practice-schedule-begins-2025-07-15/
LOCATION:Chuck Camp Park\, 2270 Benson Poole Rd SE\, smyrna\, GA\, 30080\, United States
ATTACH;FMTTYPE=image/jpeg:https://smyrnaseahawks.org/wp-content/uploads/2019/01/ss-post-placeholder-rectangular-slim.jpg
END:VEVENT
BEGIN:VEVENT
DTSTART;TZID=America/New_York:20250717T183000
DTEND;TZID=America/New_York:20250717T200000
DTSTAMP:20260423T150538
CREATED:20250514T155141Z
LAST-MODIFIED:20250514T155141Z
UID:7868-1752777000-1752782400@smyrnaseahawks.org
SUMMARY:Cheer Regular Practice Schedule Begins
DESCRIPTION:Every Monday\, Tuesday\, Thursday
URL:https://smyrnaseahawks.org/event/cheer-regular-practice-schedule-begins-2025-07-17/
LOCATION:Chuck Camp Park\, 2270 Benson Poole Rd SE\, smyrna\, GA\, 30080\, United States
ATTACH;FMTTYPE=image/jpeg:https://smyrnaseahawks.org/wp-content/uploads/2019/01/ss-post-placeholder-rectangular-slim.jpg
END:VEVENT
END:VCALENDAR