BEGIN:VCALENDAR
VERSION:2.0
PRODID:-//Smyrna Spartans - ECPv6.15.17.1//NONSGML v1.0//EN
CALSCALE:GREGORIAN
METHOD:PUBLISH
X-WR-CALNAME:Smyrna Spartans
X-ORIGINAL-URL:https://smyrnaseahawks.org
X-WR-CALDESC:Events for Smyrna Spartans
REFRESH-INTERVAL;VALUE=DURATION:PT1H
X-Robots-Tag:noindex
X-PUBLISHED-TTL:PT1H
BEGIN:VTIMEZONE
TZID:America/New_York
BEGIN:DAYLIGHT
TZOFFSETFROM:-0500
TZOFFSETTO:-0400
TZNAME:EDT
DTSTART:20180311T070000
END:DAYLIGHT
BEGIN:STANDARD
TZOFFSETFROM:-0400
TZOFFSETTO:-0500
TZNAME:EST
DTSTART:20181104T060000
END:STANDARD
BEGIN:DAYLIGHT
TZOFFSETFROM:-0500
TZOFFSETTO:-0400
TZNAME:EDT
DTSTART:20190310T070000
END:DAYLIGHT
BEGIN:STANDARD
TZOFFSETFROM:-0400
TZOFFSETTO:-0500
TZNAME:EST
DTSTART:20191103T060000
END:STANDARD
BEGIN:DAYLIGHT
TZOFFSETFROM:-0500
TZOFFSETTO:-0400
TZNAME:EDT
DTSTART:20200308T070000
END:DAYLIGHT
BEGIN:STANDARD
TZOFFSETFROM:-0400
TZOFFSETTO:-0500
TZNAME:EST
DTSTART:20201101T060000
END:STANDARD
BEGIN:DAYLIGHT
TZOFFSETFROM:-0500
TZOFFSETTO:-0400
TZNAME:EDT
DTSTART:20210314T070000
END:DAYLIGHT
BEGIN:STANDARD
TZOFFSETFROM:-0400
TZOFFSETTO:-0500
TZNAME:EST
DTSTART:20211107T060000
END:STANDARD
BEGIN:DAYLIGHT
TZOFFSETFROM:-0500
TZOFFSETTO:-0400
TZNAME:EDT
DTSTART:20220313T070000
END:DAYLIGHT
BEGIN:STANDARD
TZOFFSETFROM:-0400
TZOFFSETTO:-0500
TZNAME:EST
DTSTART:20221106T060000
END:STANDARD
BEGIN:DAYLIGHT
TZOFFSETFROM:-0500
TZOFFSETTO:-0400
TZNAME:EDT
DTSTART:20230312T070000
END:DAYLIGHT
BEGIN:STANDARD
TZOFFSETFROM:-0400
TZOFFSETTO:-0500
TZNAME:EST
DTSTART:20231105T060000
END:STANDARD
BEGIN:DAYLIGHT
TZOFFSETFROM:-0500
TZOFFSETTO:-0400
TZNAME:EDT
DTSTART:20240310T070000
END:DAYLIGHT
BEGIN:STANDARD
TZOFFSETFROM:-0400
TZOFFSETTO:-0500
TZNAME:EST
DTSTART:20241103T060000
END:STANDARD
BEGIN:DAYLIGHT
TZOFFSETFROM:-0500
TZOFFSETTO:-0400
TZNAME:EDT
DTSTART:20250309T070000
END:DAYLIGHT
BEGIN:STANDARD
TZOFFSETFROM:-0400
TZOFFSETTO:-0500
TZNAME:EST
DTSTART:20251102T060000
END:STANDARD
BEGIN:DAYLIGHT
TZOFFSETFROM:-0500
TZOFFSETTO:-0400
TZNAME:EDT
DTSTART:20260308T070000
END:DAYLIGHT
BEGIN:STANDARD
TZOFFSETFROM:-0400
TZOFFSETTO:-0500
TZNAME:EST
DTSTART:20261101T060000
END:STANDARD
END:VTIMEZONE
BEGIN:VEVENT
DTSTART;TZID=America/New_York:20250626T183000
DTEND;TZID=America/New_York:20250626T200000
DTSTAMP:20260425T172556
CREATED:20250514T152425Z
LAST-MODIFIED:20250514T152908Z
UID:7849-1750962600-1750968000@smyrnaseahawks.org
SUMMARY:Football Preseason Conditioning
DESCRIPTION:
URL:https://smyrnaseahawks.org/event/football-preseason-conditioning-25-06-26/
LOCATION:Chuck Camp Park\, 2270 Benson Poole Rd SE\, smyrna\, GA\, 30080\, United States
ATTACH;FMTTYPE=image/jpeg:https://smyrnaseahawks.org/wp-content/uploads/2019/01/ss-post-placeholder-rectangular-slim.jpg
END:VEVENT
BEGIN:VEVENT
DTSTART;TZID=America/New_York:20250624T183000
DTEND;TZID=America/New_York:20250624T200000
DTSTAMP:20260425T172556
CREATED:20250514T152433Z
LAST-MODIFIED:20250514T152857Z
UID:7848-1750789800-1750795200@smyrnaseahawks.org
SUMMARY:Football Preseason Conditioning
DESCRIPTION:
URL:https://smyrnaseahawks.org/event/football-preseason-conditioning-25-06-24/
LOCATION:Chuck Camp Park\, 2270 Benson Poole Rd SE\, smyrna\, GA\, 30080\, United States
ATTACH;FMTTYPE=image/jpeg:https://smyrnaseahawks.org/wp-content/uploads/2019/01/ss-post-placeholder-rectangular-slim.jpg
END:VEVENT
BEGIN:VEVENT
DTSTART;TZID=America/New_York:20250618T183000
DTEND;TZID=America/New_York:20250618T200000
DTSTAMP:20260425T172556
CREATED:20250514T152440Z
LAST-MODIFIED:20250514T152841Z
UID:7847-1750271400-1750276800@smyrnaseahawks.org
SUMMARY:Football Preseason Conditioning
DESCRIPTION:
URL:https://smyrnaseahawks.org/event/football-preseason-conditioning-25-06-18/
LOCATION:Chuck Camp Park\, 2270 Benson Poole Rd SE\, smyrna\, GA\, 30080\, United States
ATTACH;FMTTYPE=image/jpeg:https://smyrnaseahawks.org/wp-content/uploads/2019/01/ss-post-placeholder-rectangular-slim.jpg
END:VEVENT
BEGIN:VEVENT
DTSTART;TZID=America/New_York:20250617T183000
DTEND;TZID=America/New_York:20250617T200000
DTSTAMP:20260425T172556
CREATED:20250514T152447Z
LAST-MODIFIED:20250514T152829Z
UID:7846-1750185000-1750190400@smyrnaseahawks.org
SUMMARY:Football Preseason Conditioning
DESCRIPTION:
URL:https://smyrnaseahawks.org/event/football-preseason-conditioning-25-06-17/
LOCATION:Chuck Camp Park\, 2270 Benson Poole Rd SE\, smyrna\, GA\, 30080\, United States
ATTACH;FMTTYPE=image/jpeg:https://smyrnaseahawks.org/wp-content/uploads/2019/01/ss-post-placeholder-rectangular-slim.jpg
END:VEVENT
BEGIN:VEVENT
DTSTART;TZID=America/New_York:20250612T183000
DTEND;TZID=America/New_York:20250612T200000
DTSTAMP:20260425T172556
CREATED:20250514T152132Z
LAST-MODIFIED:20250514T152820Z
UID:7844-1749753000-1749758400@smyrnaseahawks.org
SUMMARY:Football Preseason Conditioning
DESCRIPTION:
URL:https://smyrnaseahawks.org/event/football-preseason-conditioning-25-06-12/
LOCATION:Chuck Camp Park\, 2270 Benson Poole Rd SE\, smyrna\, GA\, 30080\, United States
ATTACH;FMTTYPE=image/jpeg:https://smyrnaseahawks.org/wp-content/uploads/2019/01/ss-post-placeholder-rectangular-slim.jpg
END:VEVENT
BEGIN:VEVENT
DTSTART;TZID=America/New_York:20250610T183000
DTEND;TZID=America/New_York:20250610T200000
DTSTAMP:20260425T172556
CREATED:20250514T152015Z
LAST-MODIFIED:20250514T152810Z
UID:7842-1749580200-1749585600@smyrnaseahawks.org
SUMMARY:Football Preseason Conditioning
DESCRIPTION:
URL:https://smyrnaseahawks.org/event/football-preseason-conditioning-25-06-10/
LOCATION:Chuck Camp Park\, 2270 Benson Poole Rd SE\, smyrna\, GA\, 30080\, United States
ATTACH;FMTTYPE=image/jpeg:https://smyrnaseahawks.org/wp-content/uploads/2019/01/ss-post-placeholder-rectangular-slim.jpg
END:VEVENT
BEGIN:VEVENT
DTSTART;TZID=America/New_York:20250605T183000
DTEND;TZID=America/New_York:20250605T200000
DTSTAMP:20260425T172556
CREATED:20250514T151437Z
LAST-MODIFIED:20250514T152757Z
UID:7840-1749148200-1749153600@smyrnaseahawks.org
SUMMARY:Football Preseason Conditioning
DESCRIPTION:
URL:https://smyrnaseahawks.org/event/football-preseason-conditioning-25-06-05/
LOCATION:Chuck Camp Park\, 2270 Benson Poole Rd SE\, smyrna\, GA\, 30080\, United States
ATTACH;FMTTYPE=image/jpeg:https://smyrnaseahawks.org/wp-content/uploads/2019/01/ss-post-placeholder-rectangular-slim.jpg
END:VEVENT
BEGIN:VEVENT
DTSTART;TZID=America/New_York:20250603T183000
DTEND;TZID=America/New_York:20250603T200000
DTSTAMP:20260425T172556
CREATED:20250514T150923Z
LAST-MODIFIED:20250514T152742Z
UID:7837-1748975400-1748980800@smyrnaseahawks.org
SUMMARY:Football Preseason Conditioning
DESCRIPTION:
URL:https://smyrnaseahawks.org/event/football-preseason-conditioning-25-06-03/
LOCATION:Chuck Camp Park\, 2270 Benson Poole Rd SE\, smyrna\, GA\, 30080\, United States
ATTACH;FMTTYPE=image/jpeg:https://smyrnaseahawks.org/wp-content/uploads/2019/01/ss-post-placeholder-rectangular-slim.jpg
END:VEVENT
BEGIN:VEVENT
DTSTART;TZID=America/New_York:20250529T183000
DTEND;TZID=America/New_York:20250529T200000
DTSTAMP:20260425T172556
CREATED:20250514T150155Z
LAST-MODIFIED:20250514T152717Z
UID:7833-1748543400-1748548800@smyrnaseahawks.org
SUMMARY:Football Preseason Conditioning
DESCRIPTION:
URL:https://smyrnaseahawks.org/event/football-preseason-conditioning-25-05-29/
LOCATION:Chuck Camp Park\, 2270 Benson Poole Rd SE\, smyrna\, GA\, 30080\, United States
ATTACH;FMTTYPE=image/jpeg:https://smyrnaseahawks.org/wp-content/uploads/2019/01/ss-post-placeholder-rectangular-slim.jpg
END:VEVENT
BEGIN:VEVENT
DTSTART;TZID=America/New_York:20250522T183000
DTEND;TZID=America/New_York:20250522T200000
DTSTAMP:20260425T172556
CREATED:20250514T142141Z
LAST-MODIFIED:20250514T152707Z
UID:7798-1747938600-1747944000@smyrnaseahawks.org
SUMMARY:Football & Cheer Preseason Conditioning
DESCRIPTION:
URL:https://smyrnaseahawks.org/event/football-cheer-preseason-conditioning-25-05-22/
LOCATION:Chuck Camp Park\, 2270 Benson Poole Rd SE\, smyrna\, GA\, 30080\, United States
ATTACH;FMTTYPE=image/jpeg:https://smyrnaseahawks.org/wp-content/uploads/2019/01/ss-post-placeholder-rectangular-slim.jpg
END:VEVENT
BEGIN:VEVENT
DTSTART;TZID=America/New_York:20250520T183000
DTEND;TZID=America/New_York:20250520T200000
DTSTAMP:20260425T172556
CREATED:20250514T142001Z
LAST-MODIFIED:20250514T152656Z
UID:7796-1747765800-1747771200@smyrnaseahawks.org
SUMMARY:Football & Cheer Preseason Conditioning
DESCRIPTION:
URL:https://smyrnaseahawks.org/event/football-cheer-preseason-conditioning-25-05-20/
LOCATION:Chuck Camp Park\, 2270 Benson Poole Rd SE\, smyrna\, GA\, 30080\, United States
ATTACH;FMTTYPE=image/jpeg:https://smyrnaseahawks.org/wp-content/uploads/2019/01/ss-post-placeholder-rectangular-slim.jpg
END:VEVENT
BEGIN:VEVENT
DTSTART;TZID=America/New_York:20250515T183000
DTEND;TZID=America/New_York:20250515T200000
DTSTAMP:20260425T172556
CREATED:20250514T141501Z
LAST-MODIFIED:20250514T152646Z
UID:7792-1747333800-1747339200@smyrnaseahawks.org
SUMMARY:Football & Cheer Preseason Conditioning
DESCRIPTION:
URL:https://smyrnaseahawks.org/event/football-cheer-preseason-conditioning-25-05-15/
LOCATION:Chuck Camp Park\, 2270 Benson Poole Rd SE\, smyrna\, GA\, 30080\, United States
ATTACH;FMTTYPE=image/jpeg:https://smyrnaseahawks.org/wp-content/uploads/2019/01/ss-post-placeholder-rectangular-slim.jpg
END:VEVENT
BEGIN:VEVENT
DTSTART;VALUE=DATE:20240831
DTEND;VALUE=DATE:20240901
DTSTAMP:20260425T172556
CREATED:20240507T195723Z
LAST-MODIFIED:20250514T145809Z
UID:7663-1725062400-1725148799@smyrnaseahawks.org
SUMMARY:1st Regular season game
DESCRIPTION:
URL:https://smyrnaseahawks.org/event/1st-regular-season-game/
LOCATION:GA
ATTACH;FMTTYPE=image/jpeg:https://smyrnaseahawks.org/wp-content/uploads/2019/01/ss-post-placeholder-rectangular-slim.jpg
END:VEVENT
BEGIN:VEVENT
DTSTART;VALUE=DATE:20240801
DTEND;VALUE=DATE:20240802
DTSTAMP:20260425T172556
CREATED:20240507T195606Z
LAST-MODIFIED:20250514T145810Z
UID:7661-1722470400-1722556799@smyrnaseahawks.org
SUMMARY:Last day of helmets only
DESCRIPTION:for players that have completed their 3 days
URL:https://smyrnaseahawks.org/event/last-day-of-helmets-only/
LOCATION:GA
ATTACH;FMTTYPE=image/jpeg:https://smyrnaseahawks.org/wp-content/uploads/2019/01/ss-post-placeholder-rectangular-slim.jpg
END:VEVENT
BEGIN:VEVENT
DTSTART;VALUE=DATE:20240729
DTEND;VALUE=DATE:20240802
DTSTAMP:20260425T172556
CREATED:20240507T195456Z
LAST-MODIFIED:20250514T145812Z
UID:7658-1722211200-1722556799@smyrnaseahawks.org
SUMMARY:Acclimation Week
DESCRIPTION:3 days of helmets only
URL:https://smyrnaseahawks.org/event/acclimation-week/
LOCATION:GA
ATTACH;FMTTYPE=image/jpeg:https://smyrnaseahawks.org/wp-content/uploads/2019/01/ss-post-placeholder-rectangular-slim.jpg
END:VEVENT
BEGIN:VEVENT
DTSTART;VALUE=DATE:20240724
DTEND;VALUE=DATE:20240725
DTSTAMP:20260425T172556
CREATED:20240507T195357Z
LAST-MODIFIED:20250514T145813Z
UID:7656-1721779200-1721865599@smyrnaseahawks.org
SUMMARY:Coaches Meeting
DESCRIPTION:
URL:https://smyrnaseahawks.org/event/coaches-meeting-2/
LOCATION:GA
ATTACH;FMTTYPE=image/jpeg:https://smyrnaseahawks.org/wp-content/uploads/2019/01/ss-post-placeholder-rectangular-slim.jpg
END:VEVENT
BEGIN:VEVENT
DTSTART;VALUE=DATE:20240712
DTEND;VALUE=DATE:20240715
DTSTAMP:20260425T172556
CREATED:20240507T195323Z
LAST-MODIFIED:20250514T145814Z
UID:7654-1720742400-1721001599@smyrnaseahawks.org
SUMMARY:Peach State Classic
DESCRIPTION:More info to come
URL:https://smyrnaseahawks.org/event/peach-state-classic/
LOCATION:GA
ATTACH;FMTTYPE=image/jpeg:https://smyrnaseahawks.org/wp-content/uploads/2019/01/ss-post-placeholder-rectangular-slim.jpg
END:VEVENT
BEGIN:VEVENT
DTSTART;VALUE=DATE:20240603
DTEND;VALUE=DATE:20240604
DTSTAMP:20260425T172556
CREATED:20240507T182937Z
LAST-MODIFIED:20250514T145815Z
UID:7650-1717372800-1717459199@smyrnaseahawks.org
SUMMARY:First Day of Practice
DESCRIPTION:3 days a week
URL:https://smyrnaseahawks.org/event/first-day-of-practice/
LOCATION:GA
ATTACH;FMTTYPE=image/jpeg:https://smyrnaseahawks.org/wp-content/uploads/2019/01/ss-post-placeholder-rectangular-slim.jpg
END:VEVENT
BEGIN:VEVENT
DTSTART;VALUE=DATE:20240521
DTEND;VALUE=DATE:20240522
DTSTAMP:20260425T172556
CREATED:20240507T182736Z
LAST-MODIFIED:20250514T145817Z
UID:7646-1716249600-1716335999@smyrnaseahawks.org
SUMMARY:Doublegood Fundraiser Begins
DESCRIPTION:Double Good exists to support and create joy for America’s youth. Every fundraiser we host empowers kids to pursue their dreams\, and 50% of every purchase made on our site goes to the Double Good Kids Foundation\, which has been able to raise millions for children with special needs.
URL:https://smyrnaseahawks.org/event/doublegood-fundraiser-begins/
LOCATION:GA
ATTACH;FMTTYPE=image/jpeg:https://smyrnaseahawks.org/wp-content/uploads/2019/01/ss-post-placeholder-rectangular-slim.jpg
END:VEVENT
BEGIN:VEVENT
DTSTART;VALUE=DATE:20240507
DTEND;VALUE=DATE:20240508
DTSTAMP:20260425T172556
CREATED:20240507T170127Z
LAST-MODIFIED:20250514T145818Z
UID:7644-1715040000-1715126399@smyrnaseahawks.org
SUMMARY:First Day of Conditioning
DESCRIPTION:
URL:https://smyrnaseahawks.org/event/first-day-of-conditioning/
LOCATION:GA
ATTACH;FMTTYPE=image/jpeg:https://smyrnaseahawks.org/wp-content/uploads/2019/01/ss-post-placeholder-rectangular-slim.jpg
END:VEVENT
BEGIN:VEVENT
DTSTART;VALUE=DATE:20240501
DTEND;VALUE=DATE:20240502
DTSTAMP:20260425T172556
CREATED:20240507T165831Z
LAST-MODIFIED:20250514T145819Z
UID:7642-1714521600-1714607999@smyrnaseahawks.org
SUMMARY:Coaches Meeting
DESCRIPTION:
URL:https://smyrnaseahawks.org/event/coaches-meeting/
LOCATION:GA
END:VEVENT
BEGIN:VEVENT
DTSTART;VALUE=DATE:20240427
DTEND;VALUE=DATE:20240429
DTSTAMP:20260425T172556
CREATED:20240507T165739Z
LAST-MODIFIED:20250514T145820Z
UID:7640-1714176000-1714348799@smyrnaseahawks.org
SUMMARY:Jonquil Festival
DESCRIPTION:
URL:https://smyrnaseahawks.org/event/jonquil-festival/
LOCATION:GA
END:VEVENT
BEGIN:VEVENT
DTSTART;VALUE=DATE:20240418
DTEND;VALUE=DATE:20240419
DTSTAMP:20260425T172556
CREATED:20240507T165545Z
LAST-MODIFIED:20250514T145822Z
UID:7638-1713398400-1713484799@smyrnaseahawks.org
SUMMARY:Executive Board Meeting
DESCRIPTION:
URL:https://smyrnaseahawks.org/event/executive-board-meeting/
LOCATION:GA
END:VEVENT
BEGIN:VEVENT
DTSTART;VALUE=DATE:20230108
DTEND;VALUE=DATE:20230528
DTSTAMP:20260425T172556
CREATED:20230131T180725Z
LAST-MODIFIED:20250514T145823Z
UID:7244-1673136000-1685231999@smyrnaseahawks.org
SUMMARY:2023 Smyrna Seahawks Flag Football
DESCRIPTION:Smyrna Seahawks will be offering Spring Flag and 7 on 7 Football for most age groups. Registration opens on February 1st and practice will begin on March 7th. Practice will be every Tuesday and Thursday. The season (Game schedule) runs from April 8th- May 27th.
URL:https://smyrnaseahawks.org/event/2023-smyrna-seahawks-flag-football/
LOCATION:GA
END:VEVENT
BEGIN:VEVENT
DTSTART;TZID=America/New_York:20210608T183000
DTEND;TZID=America/New_York:20210608T203000
DTSTAMP:20260425T172556
CREATED:20210602T162345Z
LAST-MODIFIED:20250514T145824Z
UID:6004-1623177000-1623184200@smyrnaseahawks.org
SUMMARY:WHOLE PARK CONDITIONING
DESCRIPTION:We will begin our whole park (all ages for cheer and football) conditioning on June 8th.  Summer conditioning will only be TWO DAYS/WEEK (Tuesdays and Thursdays) for the 2021 season. \nJune 8th-June 29th and July 6th-July 22nd \nMini Cheer and 5u-8u Football 6:30pm-8:00pm \nSenior Cheer and 9u-12u Football 6:30pm-8:30pm \n 
URL:https://smyrnaseahawks.org/event/whole-park-conditioning/
LOCATION:Campbell High School
END:VEVENT
BEGIN:VEVENT
DTSTART;TZID=America/New_York:20210602T080000
DTEND;TZID=America/New_York:20210602T170000
DTSTAMP:20260425T172556
CREATED:20210602T162626Z
LAST-MODIFIED:20250514T145826Z
UID:6007-1622620800-1622653200@smyrnaseahawks.org
SUMMARY:2021 PRACTICE
DESCRIPTION:Regular season practice begins July 26th.  Practice will be every Monday\, Tuesday\, and Thursday at Campbell High School. Mini Cheer and 5u-8u Football times are 6:30pm-8:00pm.  Senior Cheer and 9u-12u Football times are 6:30pm-8:30pm. \n 
URL:https://smyrnaseahawks.org/event/2021-practice/
LOCATION:GA
END:VEVENT
BEGIN:VEVENT
DTSTART;TZID=America/New_York:20210507T180000
DTEND;TZID=America/New_York:20210507T190000
DTSTAMP:20260425T172556
CREATED:20210507T172826Z
LAST-MODIFIED:20250514T145827Z
UID:5986-1620410400-1620414000@smyrnaseahawks.org
SUMMARY:(zoom link) 2021 Smyrna Seahawks New Parent Orientation
DESCRIPTION:Topic: 2021 Smyrna Seahawks New Parent Orientation\nTime: May 7\, 2021 06:00 PM Eastern Time (US and Canada) \nClick Here Join Zoom Meeting \nMeeting ID: 867 9718 4989\nPasscode: mTq2Wn
URL:https://smyrnaseahawks.org/event/zoom-link-2021-smyrna-seahawks-new-parent-orientation/
LOCATION:GA
ATTACH;FMTTYPE=image/jpeg:https://smyrnaseahawks.org/wp-content/uploads/2019/01/ss-post-placeholder-rectangular-slim.jpg
END:VEVENT
BEGIN:VEVENT
DTSTART;TZID=America/New_York:20200304T000000
DTEND;TZID=America/New_York:20200422T000000
DTSTAMP:20260425T172556
CREATED:20200225T230059Z
LAST-MODIFIED:20250514T145828Z
UID:4171-1583280000-1587513600@smyrnaseahawks.org
SUMMARY:Online Registration Opens (Early Registration Discount)
DESCRIPTION:
URL:https://smyrnaseahawks.org/event/online-registration-opens-early-registration-discount/
LOCATION:GA
ATTACH;FMTTYPE=image/jpeg:https://smyrnaseahawks.org/wp-content/uploads/2019/07/website-calendar-image.jpg
END:VEVENT
BEGIN:VEVENT
DTSTART;VALUE=DATE:20191215
DTEND;VALUE=DATE:20191216
DTSTAMP:20260425T172556
CREATED:20190206T210742Z
LAST-MODIFIED:20190206T210742Z
UID:4196-1576368000-1576454399@smyrnaseahawks.org
SUMMARY:End of the Year Ceremony
DESCRIPTION:
URL:https://smyrnaseahawks.org/event/end-of-the-year-ceremony/
LOCATION:GA
ATTACH;FMTTYPE=image/jpeg:https://smyrnaseahawks.org/wp-content/uploads/2019/02/ss-post-placeholder-rectangular.jpg
END:VEVENT
BEGIN:VEVENT
DTSTART;TZID=America/New_York:20191123T100000
DTEND;TZID=America/New_York:20191124T190000
DTSTAMP:20260425T172556
CREATED:20191122T164536Z
LAST-MODIFIED:20191122T165111Z
UID:5182-1574503200-1574622000@smyrnaseahawks.org
SUMMARY:NWGYFL Super Bowl Weekend
DESCRIPTION:Saturday\, November 23rd @ North Cobb High School \n\n\n\nTIME\nAGE\nAWAY\nVS\nHOME\n\n\n10:00AM\n5U\n#3 ROME 5-3\nVS\n#1 CHATTANOOGA 8-0\n\n\n11:30AM\n6U\n#2 ACWORTH 10-1\nVS\n#1 CHATTANOOGA 9-0\n\n\n1:00PM\n7U\n#4 CHATTANOOGA 5-4\nVS\n#1 ACWORTH 8-2\n\n\n3:00PM\n8U\n#2 ACWORTH 10-1\nVS\n#1 SMYRNA 11-0\n\n\n5:00PM\n9U\n#3 ACWORTH 8-2\nVS\n#1 BARTOW 9-0\n\n\n7:00PM\n12U\n#2 BARTOW 7-2\nVS\n#1 DOUGLASVILLE 8-2\n\n\n\nSunday\, November 24th @ North Cobb High School \n\n\n\nTIME\nAGE\nAWAY\nVS\nHOME\n\n\n11:00AM\n8U D2\n#2 NORTH GA 6-4\nVS\n#1 SMYRNA 8-1\n\n\n1:00PM\n10U D2\n#2 BARTOW 9-1\nVS\n#1 ROME 9-1\n\n\n3:00PM\n12U D2\n#2 BOUNDARY 1-7\nVS\n#1 NORTH GA 3-6\n\n\n5:00PM\n10U\n#3 ROME 9-2\nVS\n#1 CHATTANOOGA 9-1\n\n\n7:00PM\n11U\n#2 DOUGLASVILLE 9-2\nVS\n#1 SMYRNA 11-0
URL:https://smyrnaseahawks.org/event/nwgyfl-super-bowl-weekend/
LOCATION:North Cobb High School\, 3400 Old 41 Hwy NW\, Kennesaw\, GA\, 30144\, United States
ATTACH;FMTTYPE=image/jpeg:https://smyrnaseahawks.org/wp-content/uploads/2019/07/website-calendar-image.jpg
END:VEVENT
END:VCALENDAR