BEGIN:VCALENDAR
VERSION:2.0
PRODID:-//Smyrna Spartans - ECPv6.15.17.1//NONSGML v1.0//EN
CALSCALE:GREGORIAN
METHOD:PUBLISH
X-WR-CALNAME:Smyrna Spartans
X-ORIGINAL-URL:https://smyrnaseahawks.org
X-WR-CALDESC:Events for Smyrna Spartans
REFRESH-INTERVAL;VALUE=DURATION:PT1H
X-Robots-Tag:noindex
X-PUBLISHED-TTL:PT1H
BEGIN:VTIMEZONE
TZID:America/New_York
BEGIN:DAYLIGHT
TZOFFSETFROM:-0500
TZOFFSETTO:-0400
TZNAME:EDT
DTSTART:20180311T070000
END:DAYLIGHT
BEGIN:STANDARD
TZOFFSETFROM:-0400
TZOFFSETTO:-0500
TZNAME:EST
DTSTART:20181104T060000
END:STANDARD
BEGIN:DAYLIGHT
TZOFFSETFROM:-0500
TZOFFSETTO:-0400
TZNAME:EDT
DTSTART:20190310T070000
END:DAYLIGHT
BEGIN:STANDARD
TZOFFSETFROM:-0400
TZOFFSETTO:-0500
TZNAME:EST
DTSTART:20191103T060000
END:STANDARD
BEGIN:DAYLIGHT
TZOFFSETFROM:-0500
TZOFFSETTO:-0400
TZNAME:EDT
DTSTART:20200308T070000
END:DAYLIGHT
BEGIN:STANDARD
TZOFFSETFROM:-0400
TZOFFSETTO:-0500
TZNAME:EST
DTSTART:20201101T060000
END:STANDARD
BEGIN:DAYLIGHT
TZOFFSETFROM:-0500
TZOFFSETTO:-0400
TZNAME:EDT
DTSTART:20210314T070000
END:DAYLIGHT
BEGIN:STANDARD
TZOFFSETFROM:-0400
TZOFFSETTO:-0500
TZNAME:EST
DTSTART:20211107T060000
END:STANDARD
BEGIN:DAYLIGHT
TZOFFSETFROM:-0500
TZOFFSETTO:-0400
TZNAME:EDT
DTSTART:20220313T070000
END:DAYLIGHT
BEGIN:STANDARD
TZOFFSETFROM:-0400
TZOFFSETTO:-0500
TZNAME:EST
DTSTART:20221106T060000
END:STANDARD
BEGIN:DAYLIGHT
TZOFFSETFROM:-0500
TZOFFSETTO:-0400
TZNAME:EDT
DTSTART:20230312T070000
END:DAYLIGHT
BEGIN:STANDARD
TZOFFSETFROM:-0400
TZOFFSETTO:-0500
TZNAME:EST
DTSTART:20231105T060000
END:STANDARD
BEGIN:DAYLIGHT
TZOFFSETFROM:-0500
TZOFFSETTO:-0400
TZNAME:EDT
DTSTART:20240310T070000
END:DAYLIGHT
BEGIN:STANDARD
TZOFFSETFROM:-0400
TZOFFSETTO:-0500
TZNAME:EST
DTSTART:20241103T060000
END:STANDARD
END:VTIMEZONE
BEGIN:VEVENT
DTSTART;VALUE=DATE:20230108
DTEND;VALUE=DATE:20230528
DTSTAMP:20260423T191141
CREATED:20230131T180725Z
LAST-MODIFIED:20250514T145823Z
UID:7244-1673136000-1685231999@smyrnaseahawks.org
SUMMARY:2023 Smyrna Seahawks Flag Football
DESCRIPTION:Smyrna Seahawks will be offering Spring Flag and 7 on 7 Football for most age groups. Registration opens on February 1st and practice will begin on March 7th. Practice will be every Tuesday and Thursday. The season (Game schedule) runs from April 8th- May 27th.
URL:https://smyrnaseahawks.org/event/2023-smyrna-seahawks-flag-football/
LOCATION:GA
END:VEVENT
BEGIN:VEVENT
DTSTART;TZID=America/New_York:20210608T183000
DTEND;TZID=America/New_York:20210608T203000
DTSTAMP:20260423T191141
CREATED:20210602T162345Z
LAST-MODIFIED:20250514T145824Z
UID:6004-1623177000-1623184200@smyrnaseahawks.org
SUMMARY:WHOLE PARK CONDITIONING
DESCRIPTION:We will begin our whole park (all ages for cheer and football) conditioning on June 8th.  Summer conditioning will only be TWO DAYS/WEEK (Tuesdays and Thursdays) for the 2021 season. \nJune 8th-June 29th and July 6th-July 22nd \nMini Cheer and 5u-8u Football 6:30pm-8:00pm \nSenior Cheer and 9u-12u Football 6:30pm-8:30pm \n 
URL:https://smyrnaseahawks.org/event/whole-park-conditioning/
LOCATION:Campbell High School
END:VEVENT
BEGIN:VEVENT
DTSTART;TZID=America/New_York:20210602T080000
DTEND;TZID=America/New_York:20210602T170000
DTSTAMP:20260423T191141
CREATED:20210602T162626Z
LAST-MODIFIED:20250514T145826Z
UID:6007-1622620800-1622653200@smyrnaseahawks.org
SUMMARY:2021 PRACTICE
DESCRIPTION:Regular season practice begins July 26th.  Practice will be every Monday\, Tuesday\, and Thursday at Campbell High School. Mini Cheer and 5u-8u Football times are 6:30pm-8:00pm.  Senior Cheer and 9u-12u Football times are 6:30pm-8:30pm. \n 
URL:https://smyrnaseahawks.org/event/2021-practice/
LOCATION:GA
END:VEVENT
BEGIN:VEVENT
DTSTART;TZID=America/New_York:20210507T180000
DTEND;TZID=America/New_York:20210507T190000
DTSTAMP:20260423T191141
CREATED:20210507T172826Z
LAST-MODIFIED:20250514T145827Z
UID:5986-1620410400-1620414000@smyrnaseahawks.org
SUMMARY:(zoom link) 2021 Smyrna Seahawks New Parent Orientation
DESCRIPTION:Topic: 2021 Smyrna Seahawks New Parent Orientation\nTime: May 7\, 2021 06:00 PM Eastern Time (US and Canada) \nClick Here Join Zoom Meeting \nMeeting ID: 867 9718 4989\nPasscode: mTq2Wn
URL:https://smyrnaseahawks.org/event/zoom-link-2021-smyrna-seahawks-new-parent-orientation/
LOCATION:GA
ATTACH;FMTTYPE=image/jpeg:https://smyrnaseahawks.org/wp-content/uploads/2019/01/ss-post-placeholder-rectangular-slim.jpg
END:VEVENT
BEGIN:VEVENT
DTSTART;TZID=America/New_York:20200304T000000
DTEND;TZID=America/New_York:20200422T000000
DTSTAMP:20260423T191141
CREATED:20200225T230059Z
LAST-MODIFIED:20250514T145828Z
UID:4171-1583280000-1587513600@smyrnaseahawks.org
SUMMARY:Online Registration Opens (Early Registration Discount)
DESCRIPTION:
URL:https://smyrnaseahawks.org/event/online-registration-opens-early-registration-discount/
LOCATION:GA
ATTACH;FMTTYPE=image/jpeg:https://smyrnaseahawks.org/wp-content/uploads/2019/07/website-calendar-image.jpg
END:VEVENT
BEGIN:VEVENT
DTSTART;VALUE=DATE:20191215
DTEND;VALUE=DATE:20191216
DTSTAMP:20260423T191141
CREATED:20190206T210742Z
LAST-MODIFIED:20190206T210742Z
UID:4196-1576368000-1576454399@smyrnaseahawks.org
SUMMARY:End of the Year Ceremony
DESCRIPTION:
URL:https://smyrnaseahawks.org/event/end-of-the-year-ceremony/
LOCATION:GA
ATTACH;FMTTYPE=image/jpeg:https://smyrnaseahawks.org/wp-content/uploads/2019/02/ss-post-placeholder-rectangular.jpg
END:VEVENT
BEGIN:VEVENT
DTSTART;TZID=America/New_York:20191123T100000
DTEND;TZID=America/New_York:20191124T190000
DTSTAMP:20260423T191141
CREATED:20191122T164536Z
LAST-MODIFIED:20191122T165111Z
UID:5182-1574503200-1574622000@smyrnaseahawks.org
SUMMARY:NWGYFL Super Bowl Weekend
DESCRIPTION:Saturday\, November 23rd @ North Cobb High School \n\n\n\nTIME\nAGE\nAWAY\nVS\nHOME\n\n\n10:00AM\n5U\n#3 ROME 5-3\nVS\n#1 CHATTANOOGA 8-0\n\n\n11:30AM\n6U\n#2 ACWORTH 10-1\nVS\n#1 CHATTANOOGA 9-0\n\n\n1:00PM\n7U\n#4 CHATTANOOGA 5-4\nVS\n#1 ACWORTH 8-2\n\n\n3:00PM\n8U\n#2 ACWORTH 10-1\nVS\n#1 SMYRNA 11-0\n\n\n5:00PM\n9U\n#3 ACWORTH 8-2\nVS\n#1 BARTOW 9-0\n\n\n7:00PM\n12U\n#2 BARTOW 7-2\nVS\n#1 DOUGLASVILLE 8-2\n\n\n\nSunday\, November 24th @ North Cobb High School \n\n\n\nTIME\nAGE\nAWAY\nVS\nHOME\n\n\n11:00AM\n8U D2\n#2 NORTH GA 6-4\nVS\n#1 SMYRNA 8-1\n\n\n1:00PM\n10U D2\n#2 BARTOW 9-1\nVS\n#1 ROME 9-1\n\n\n3:00PM\n12U D2\n#2 BOUNDARY 1-7\nVS\n#1 NORTH GA 3-6\n\n\n5:00PM\n10U\n#3 ROME 9-2\nVS\n#1 CHATTANOOGA 9-1\n\n\n7:00PM\n11U\n#2 DOUGLASVILLE 9-2\nVS\n#1 SMYRNA 11-0
URL:https://smyrnaseahawks.org/event/nwgyfl-super-bowl-weekend/
LOCATION:North Cobb High School\, 3400 Old 41 Hwy NW\, Kennesaw\, GA\, 30144\, United States
ATTACH;FMTTYPE=image/jpeg:https://smyrnaseahawks.org/wp-content/uploads/2019/07/website-calendar-image.jpg
END:VEVENT
BEGIN:VEVENT
DTSTART;VALUE=DATE:20191102
DTEND;VALUE=DATE:20191103
DTSTAMP:20260423T191141
CREATED:20191101T024320Z
LAST-MODIFIED:20191101T024320Z
UID:5136-1572652800-1572739199@smyrnaseahawks.org
SUMMARY:Week 10
DESCRIPTION:AGE\nTIME\nVISITOR\n\nHOME\nLOCATION\n\n\n8U\n9:00 AM\nNORTH GEORGIA D2\n@\nSMYRNA D2\nField: @ Beulah Deer Lick Park\n\n\n5U\n10:00 AM\nSMYRNA D1\n@\nROME D1\nField: ROME MIDDLE\n\n\n7U\n11:30 AM\nCHATTANOOGA D1\n@\nSMYRNA D1\nField: @ Beulah Deer Lick Park\n\n\n6U\n1:30 PM\nBILL ARP D1\n@\nSMYRNA D1\nField: @ Beulah Deer Lick Park\n\n\n8U\n3:00 PM\nBILL ARP D1\n@\nSMYRNA D1\nField: @ Beulah Deer Lick Park\n\n\n10U\n5:00 PM\nBILL ARP D1\n@\nSMYRNA D1\nField: @ Beulah Deer Lick Park\n\n\n11U\n7:00 PM\nMARIETTA D1\n@\nSMYRNA D1\nField: @ Beulah Deer Lick Park\n\n\n12U\n9:00 PM\nNORTH GEORGIA D2\n@\nSMYRNA D2\nField: @ Beulah Deer Lick Park
URL:https://smyrnaseahawks.org/event/week-10/
LOCATION:Beulah Bulldogs\, 2105 Mack Road\, Douglasville\, GA\, 30135\, United States
ATTACH;FMTTYPE=image/jpeg:https://smyrnaseahawks.org/wp-content/uploads/2019/07/website-calendar-image.jpg
END:VEVENT
BEGIN:VEVENT
DTSTART;TZID=America/New_York:20191027T130000
DTEND;TZID=America/New_York:20191027T180000
DTSTAMP:20260423T191141
CREATED:20190812T034614Z
LAST-MODIFIED:20190812T034636Z
UID:4952-1572181200-1572199200@smyrnaseahawks.org
SUMMARY:Seattle Seahawks vs Atlanta Falcons
DESCRIPTION:
URL:https://smyrnaseahawks.org/event/seattle-seahawks-vs-atlanta-falcons/
LOCATION:GA
ATTACH;FMTTYPE=image/jpeg:https://smyrnaseahawks.org/wp-content/uploads/2019/02/ss-post-placeholder-rectangular.jpg
END:VEVENT
BEGIN:VEVENT
DTSTART;VALUE=DATE:20191026
DTEND;VALUE=DATE:20191027
DTSTAMP:20260423T191141
CREATED:20191021T164158Z
LAST-MODIFIED:20191021T164158Z
UID:5121-1572048000-1572134399@smyrnaseahawks.org
SUMMARY:Seahawks Homecoming Games Week #9
DESCRIPTION:
URL:https://smyrnaseahawks.org/event/seahawks-homecoming-games-week-9/
LOCATION:GA
END:VEVENT
BEGIN:VEVENT
DTSTART;VALUE=DATE:20190921
DTEND;VALUE=DATE:20190922
DTSTAMP:20260423T191141
CREATED:20190919T024414Z
LAST-MODIFIED:20190919T024647Z
UID:5061-1569024000-1569110399@smyrnaseahawks.org
SUMMARY:WEEK #4 SCHEDULE
DESCRIPTION:5U\n09:00 AM\nSMYRNA D1\n@\nDOUGLASVILLE D1\n\n\n\n\n8U\n10:00 AM\nWINSTON D2\n@\nSMYRNA D2\n\n\n\n\n6U\n10:30 AM\nSMYRNA D1\n@\nDOUGLASVILLE D1\n\n\n\n\n7U\n12:00 PM\nSMYRNA D1\n@\nDOUGLASVILLE D1\n\n\n\n\n12U\n12:00 PM\nNORTH GEORGIA D2\n@\nSMYRNA D2\n\n\n\n\n8U\n02:00 PM\nSMYRNA D1\n@\nDOUGLASVILLE D1\n\n\n\n\n9U\n03:00 PM\nSMYRNA D1\n@\nBILL ARP D1\n\n\n\n\n10U\n04:00 PM\nSMYRNA D1\n@\nDOUGLASVILLE D1\n\n\n\n\n11U\n06:00 PM\nSMYRNA D1\n@\nDOUGLASVILLE D1
URL:https://smyrnaseahawks.org/event/week-4/
LOCATION:GA
END:VEVENT
BEGIN:VEVENT
DTSTART;TZID=America/New_York:20190915T090000
DTEND;TZID=America/New_York:20190915T130000
DTSTAMP:20260423T191141
CREATED:20190206T204346Z
LAST-MODIFIED:20190909T140032Z
UID:4193-1568538000-1568552400@smyrnaseahawks.org
SUMMARY:Picture Day
DESCRIPTION:
URL:https://smyrnaseahawks.org/event/picture-day/
LOCATION:GA
ATTACH;FMTTYPE=image/jpeg:https://smyrnaseahawks.org/wp-content/uploads/2019/02/ss-post-placeholder-rectangular.jpg
END:VEVENT
BEGIN:VEVENT
DTSTART;VALUE=DATE:20190914
DTEND;VALUE=DATE:20190915
DTSTAMP:20260423T191141
CREATED:20190913T114453Z
LAST-MODIFIED:20190913T114453Z
UID:5045-1568419200-1568505599@smyrnaseahawks.org
SUMMARY:Week #3
DESCRIPTION:  \n\n\n\n5U\n09:00 AM\nROME D1\n\n@\nSMYRNA D1\n\n3295 Atlanta Rd SE\, Smyrna\, GA 30080\n\n\n\n\n6U\n10:30 AM\nROME D1\n\n@\nSMYRNA D1\n\n3295 Atlanta Rd SE\, Smyrna\, GA 30080\n\n\n\n\n7U\n12:00 PM\nROME D1\n\n@\nSMYRNA D1\n\n3295 Atlanta Rd SE\, Smyrna\, GA 30080\n\n\n\n\n8U\n02:00 PM\nROME D1\n\n@\nSMYRNA D1\n\n3295 Atlanta Rd SE\, Smyrna\, GA 30080\n\n\n\n\n9U\n04:00 PM\nROME D1\n\n@\nSMYRNA D1\n\n3295 Atlanta Rd SE\, Smyrna\, GA 30080\n\n\n\n\n10U\n06:00 PM\nROME D1\n\n@\nSMYRNA D1\n\n3295 Atlanta Rd SE\, Smyrna\, GA 30080\n\n\n\n\n11U\n08:00 PM\nSHARPSBURG D1\n\n@\nSMYRNA D1\n\n3295 Atlanta Rd SE\, Smyrna\, GA 30080\n\n\n\n\n\n\n\n8U\n12:00 PM\nSMYRNA D2\n\n@\nACWORTH D2\n\n\n\n\n 3883 McEver Rd\, Acworth\, Ga 30101      Field: ALBRIGHT FIELD\n\n\n\n12U\n02:00 PM\nSMYRNA D2\n\n@\nACWORTH D2\n\n\n3883 McEver Rd\, Acworth\, Ga 30101       Field: ALBRIGHT FIELD
URL:https://smyrnaseahawks.org/event/week-3/
LOCATION:GA
END:VEVENT
BEGIN:VEVENT
DTSTART;VALUE=DATE:20190907
DTEND;VALUE=DATE:20190908
DTSTAMP:20260423T191141
CREATED:20190906T032459Z
LAST-MODIFIED:20190906T032459Z
UID:5015-1567814400-1567814400@smyrnaseahawks.org
SUMMARY:Week #2
DESCRIPTION:TIME\nVISITOR\n\n\nHOME\n\n\n\n\n5U\n10:00 AM\nSMYRNA D1\n0\n@\nCHATTANOOGA D1\n0\nField: Grace Baptist Academy 7815 Shallowford Rd Chattanooga\, TN 37421\n\n\n6U\n12:00 PM\nSMYRNA D1\n0\n@\nCHATTANOOGA D1\n0\nField: Grace Baptist Academy 7815 Shallowford Rd Chattanooga\, TN 37421\n\n\n7U\n02:00 PM\nSMYRNA D1\n0\n@\nCHATTANOOGA D1\n0\nField: Grace Baptist Academy 7815 Shallowford Rd Chattanooga\, TN 37421\n\n\n8U\n04:00 PM\nSMYRNA D1\n0\n@\nCHATTANOOGA D1\n0\nField: Grace Baptist Academy 7815 Shallowford Rd Chattanooga\, TN 37421\n\n\n10U\n06:00 PM\nSMYRNA D1\n0\n@\nCHATTANOOGA D1\n0\nField: Grace Baptist Academy 7815 Shallowford Rd Chattanooga\, TN 37421
URL:https://smyrnaseahawks.org/event/week-2/
LOCATION:Chattanooga Ravens\, 7815 Shallowford Rd.\, Chattanooga\, TN\, 37421\, United States
END:VEVENT
BEGIN:VEVENT
DTSTART;TZID=America/New_York:20190831T080000
DTEND;TZID=America/New_York:20190831T123000
DTSTAMP:20260423T191141
CREATED:20190831T022710Z
LAST-MODIFIED:20190831T022738Z
UID:4997-1567238400-1567254600@smyrnaseahawks.org
SUMMARY:2019 Season Opener
DESCRIPTION:Smyrna Seahawks 10u v Beulah Bulldogs 10u  10:00 AM – D1
URL:https://smyrnaseahawks.org/event/2019-season-opener/
LOCATION:Beulah Bulldogs\, 2105 Mack Road\, Douglasville\, GA\, 30135\, United States
END:VEVENT
BEGIN:VEVENT
DTSTART;VALUE=DATE:20190831
DTEND;VALUE=DATE:20190901
DTSTAMP:20260423T191141
CREATED:20190206T203808Z
LAST-MODIFIED:20190831T024205Z
UID:4192-1567209600-1567295999@smyrnaseahawks.org
SUMMARY:2019 Season Opener
DESCRIPTION:Smyrna Seahawks 6u v Ross Elite Longhorns 6u 10:30 AM – D1 \nSmyrna Seahawks 8u v Ross Elite Longhorns 8u 12:00 PM – D1 \nSmyrna Seahawks 9u v Ross Elite Longhorns 8u  2:00 PM – D1 \nSmyrna Seahawks 11u v Ross Elite Longhorns 11u  4:00 PM – D1 \n 
URL:https://smyrnaseahawks.org/event/first-regular-season-game/
LOCATION:Ross Elite Longhorns\, 600 Rocky Branch Rd\, Villa Rica\, GA\, 30180
ATTACH;FMTTYPE=image/jpeg:https://smyrnaseahawks.org/wp-content/uploads/2019/02/ss-post-placeholder-rectangular.jpg
END:VEVENT
BEGIN:VEVENT
DTSTART;TZID=America/New_York:20190822T183000
DTEND;TZID=America/New_York:20190822T203000
DTSTAMP:20260423T191141
CREATED:20190819T183202Z
LAST-MODIFIED:20190819T183317Z
UID:4972-1566498600-1566505800@smyrnaseahawks.org
SUMMARY:Practice
DESCRIPTION:
URL:https://smyrnaseahawks.org/event/practice-4/
LOCATION:GA
ATTACH;FMTTYPE=image/jpeg:https://smyrnaseahawks.org/wp-content/uploads/2019/02/ss-post-placeholder-rectangular.jpg
END:VEVENT
BEGIN:VEVENT
DTSTART;TZID=America/New_York:20190820T183000
DTEND;TZID=America/New_York:20190820T203000
DTSTAMP:20260423T191141
CREATED:20190819T183103Z
LAST-MODIFIED:20190819T183103Z
UID:4970-1566325800-1566333000@smyrnaseahawks.org
SUMMARY:Practice
DESCRIPTION:
URL:https://smyrnaseahawks.org/event/practice-3/
LOCATION:GA
ATTACH;FMTTYPE=image/jpeg:https://smyrnaseahawks.org/wp-content/uploads/2019/02/ss-post-placeholder-rectangular.jpg
END:VEVENT
BEGIN:VEVENT
DTSTART;TZID=America/New_York:20190819T183000
DTEND;TZID=America/New_York:20190819T203000
DTSTAMP:20260423T191141
CREATED:20190819T182935Z
LAST-MODIFIED:20190819T182935Z
UID:4968-1566239400-1566246600@smyrnaseahawks.org
SUMMARY:Practice
DESCRIPTION:
URL:https://smyrnaseahawks.org/event/practice-2/
LOCATION:Chuck Camp Park\, 2270 Benson Poole Rd SE\, smyrna\, GA\, 30080\, United States
ATTACH;FMTTYPE=image/jpeg:https://smyrnaseahawks.org/wp-content/uploads/2019/02/ss-post-placeholder-rectangular.jpg
END:VEVENT
BEGIN:VEVENT
DTSTART;VALUE=DATE:20190818
DTEND;VALUE=DATE:20190819
DTSTAMP:20260423T191141
CREATED:20190812T033951Z
LAST-MODIFIED:20190812T033951Z
UID:4950-1566086400-1566172799@smyrnaseahawks.org
SUMMARY:Certification Day
DESCRIPTION:New players\, please have your original birth certificate to your Team Mom or a Board Member no later than 7:30pm on Thursday\, August 15th.
URL:https://smyrnaseahawks.org/event/certification-day/
LOCATION:GA
ATTACH;FMTTYPE=image/jpeg:https://smyrnaseahawks.org/wp-content/uploads/2019/02/ss-post-placeholder-rectangular.jpg
END:VEVENT
BEGIN:VEVENT
DTSTART;VALUE=DATE:20190817
DTEND;VALUE=DATE:20190818
DTSTAMP:20260423T191141
CREATED:20190206T203147Z
LAST-MODIFIED:20190206T203147Z
UID:4191-1566000000-1566086399@smyrnaseahawks.org
SUMMARY:Smyrna Seahawks Jamboree
DESCRIPTION:
URL:https://smyrnaseahawks.org/event/smyrna-seahawks-jamboree/
LOCATION:GA
ATTACH;FMTTYPE=image/jpeg:https://smyrnaseahawks.org/wp-content/uploads/2019/02/ss-post-placeholder-rectangular.jpg
END:VEVENT
BEGIN:VEVENT
DTSTART;TZID=America/New_York:20190806T183000
DTEND;TZID=America/New_York:20190806T203000
DTSTAMP:20260423T191141
CREATED:20190806T145204Z
LAST-MODIFIED:20190806T145204Z
UID:4943-1565116200-1565123400@smyrnaseahawks.org
SUMMARY:Practice
DESCRIPTION:
URL:https://smyrnaseahawks.org/event/practice/
LOCATION:GA
ATTACH;FMTTYPE=image/jpeg:https://smyrnaseahawks.org/wp-content/uploads/2019/02/ss-post-placeholder-rectangular.jpg
END:VEVENT
BEGIN:VEVENT
DTSTART;TZID=America/New_York:20190725T183000
DTEND;TZID=America/New_York:20190725T203000
DTSTAMP:20260423T191141
CREATED:20190723T191449Z
LAST-MODIFIED:20190723T192059Z
UID:4913-1564079400-1564086600@smyrnaseahawks.org
SUMMARY:First Full Pads Practice
DESCRIPTION:Players will need to have helmets\, shoulder pads\, a mouth piece and practice pants with pads to practice.
URL:https://smyrnaseahawks.org/event/first-full-pads-practice/
LOCATION:Chuck Camp Park\, 2270 Benson Poole Rd SE\, smyrna\, GA\, 30080\, United States
ATTACH;FMTTYPE=image/jpeg:https://smyrnaseahawks.org/wp-content/uploads/2019/02/ss-post-placeholder-rectangular.jpg
END:VEVENT
BEGIN:VEVENT
DTSTART;TZID=America/New_York:20190724T183000
DTEND;TZID=America/New_York:20190724T203000
DTSTAMP:20260423T191141
CREATED:20190723T191212Z
LAST-MODIFIED:20190723T192029Z
UID:4911-1563993000-1564000200@smyrnaseahawks.org
SUMMARY:Third Day of Helmets Only Practice
DESCRIPTION:*helmets only\, no pads
URL:https://smyrnaseahawks.org/event/third-day-of-helmets-only-practice/
LOCATION:Chuck Camp Park\, 2270 Benson Poole Rd SE\, smyrna\, GA\, 30080\, United States
ATTACH;FMTTYPE=image/jpeg:https://smyrnaseahawks.org/wp-content/uploads/2019/02/ss-post-placeholder-rectangular.jpg
END:VEVENT
BEGIN:VEVENT
DTSTART;TZID=America/New_York:20190723T183000
DTEND;TZID=America/New_York:20190723T203000
DTSTAMP:20260423T191141
CREATED:20190723T183502Z
LAST-MODIFIED:20190723T192002Z
UID:4908-1563906600-1563913800@smyrnaseahawks.org
SUMMARY:Second Day of Helmets Only Practice
DESCRIPTION:*helmets only\, no pads
URL:https://smyrnaseahawks.org/event/second-day-of-helmets-only-practice/
LOCATION:Chuck Camp Park\, 2270 Benson Poole Rd SE\, smyrna\, GA\, 30080\, United States
ATTACH;FMTTYPE=image/jpeg:https://smyrnaseahawks.org/wp-content/uploads/2019/02/ss-post-placeholder-rectangular.jpg
END:VEVENT
BEGIN:VEVENT
DTSTART;VALUE=DATE:20190722
DTEND;VALUE=DATE:20190723
DTSTAMP:20260423T191141
CREATED:20190206T201714Z
LAST-MODIFIED:20190723T191939Z
UID:4189-1563753600-1563839999@smyrnaseahawks.org
SUMMARY:First Day of Regular Practice *helmets only\, no pads
DESCRIPTION:
URL:https://smyrnaseahawks.org/event/first-day-of-regular-practice-helmets-only-no-pads/
LOCATION:Chuck Camp Park\, 2270 Benson Poole Rd SE\, smyrna\, GA\, 30080\, United States
ATTACH;FMTTYPE=image/jpeg:https://smyrnaseahawks.org/wp-content/uploads/2019/02/ss-post-placeholder-rectangular.jpg
END:VEVENT
BEGIN:VEVENT
DTSTART;TZID=America/New_York:20190711T183000
DTEND;TZID=America/New_York:20190711T203000
DTSTAMP:20260423T191141
CREATED:20190702T040709Z
LAST-MODIFIED:20190702T040752Z
UID:4880-1562869800-1562877000@smyrnaseahawks.org
SUMMARY:Mandatory Conditioning
DESCRIPTION:
URL:https://smyrnaseahawks.org/event/mandatory-conditioning-4/
LOCATION:Chuck Camp Park\, 2270 Benson Poole Rd SE\, smyrna\, GA\, 30080\, United States
ATTACH;FMTTYPE=image/jpeg:https://smyrnaseahawks.org/wp-content/uploads/2019/02/ss-post-placeholder-rectangular.jpg
END:VEVENT
BEGIN:VEVENT
DTSTART;TZID=America/New_York:20190709T183000
DTEND;TZID=America/New_York:20190709T203000
DTSTAMP:20260423T191141
CREATED:20190702T040454Z
LAST-MODIFIED:20190702T040529Z
UID:4877-1562697000-1562704200@smyrnaseahawks.org
SUMMARY:Mandatory Conditioning
DESCRIPTION:
URL:https://smyrnaseahawks.org/event/mandatory-conditioning-3/
LOCATION:Chuck Camp Park\, 2270 Benson Poole Rd SE\, smyrna\, GA\, 30080\, United States
ATTACH;FMTTYPE=image/jpeg:https://smyrnaseahawks.org/wp-content/uploads/2019/02/ss-post-placeholder-rectangular.jpg
END:VEVENT
BEGIN:VEVENT
DTSTART;TZID=America/New_York:20190708T183000
DTEND;TZID=America/New_York:20190708T203000
DTSTAMP:20260423T191141
CREATED:20190702T002223Z
LAST-MODIFIED:20190702T040056Z
UID:4870-1562610600-1562617800@smyrnaseahawks.org
SUMMARY:Mandatory Conditioning
DESCRIPTION:
URL:https://smyrnaseahawks.org/event/mandatory-conditioning-2/
LOCATION:Chuck Camp Park\, 2270 Benson Poole Rd SE\, smyrna\, GA\, 30080\, United States
ATTACH;FMTTYPE=image/jpeg:https://smyrnaseahawks.org/wp-content/uploads/2019/02/ss-post-placeholder-rectangular.jpg
END:VEVENT
BEGIN:VEVENT
DTSTART;VALUE=DATE:20190704
DTEND;VALUE=DATE:20190705
DTSTAMP:20260423T191141
CREATED:20190702T001812Z
LAST-MODIFIED:20190702T040332Z
UID:4866-1562198400-1562284799@smyrnaseahawks.org
SUMMARY:**Cancelled**
DESCRIPTION:** Mandatory Conditioning Cancelled ** \nHave a great 4th of July Holiday!
URL:https://smyrnaseahawks.org/event/mandatory-conditioning-cancelled/
LOCATION:GA
ATTACH;FMTTYPE=image/jpeg:https://smyrnaseahawks.org/wp-content/uploads/2019/02/ss-post-placeholder-rectangular.jpg
END:VEVENT
END:VCALENDAR